Workbook

Sheet Zársz.rendelet
A2: NYŐGÉR KÖZSÉG ÖNKORMÁNYZATA KÉPVISELŐ-TESTÜLETÉNEK
A5: /2016. (V. 30.) ÖNKORMÁNYZATI RENDELETE
A6: A 2015. ÉVI KÖLTSÉGVETÉS TELJESÍTÉSÉRŐL
A9: Nyőgér Község Önkormányzatának Képviselő-testülete Magyarország Alaptörvényének 32. cikk (2) bekezdésében meghatározott eredeti jogalkotói hatáskörében, Magyarország Alaptörvényének 32. cikk (1) bekezdése f) pontjában meghatározott feladatkörében eljárva, az önkormányzat 2015. évi költségvetésének végrehajtásáról a következők szerint rendelkezik:
A13: 1. §
A15: (1) A Képviselő-testület az önkormányzat 2015. évi bevételeinek teljesítését az alábbiak szerint állapítja meg:
I17: Adatok ezer forintban
E18: A | I18: B | J18: C | K18: D
I19: Önkormányzat | J19: KÖH | K19: Összevontan
E20: a) Eredeti bevételi előirányzat | I20: 159100 | J20: 72030 | K20: 159580
E21: b) Módosított bevételi előirányzat | I21: 188334 | J21: 79671 | K21: 195446
E22: c) Bevételi teljesítés | I22: 176040 | J22: 79671 | K22: 183152
B25: (2) Nyőgér Község Önkormányzata és a Nyőgéri Közös Önkormányzati Hivatal együttes bevételi teljesítési adatait a rendelet 1. melléklete tartalmazza.
A27: 2. §
B29: (1) A Képviselő-testület az önkormányzat 2015. évi kiadásainak teljesítését az alábbiak szerint állapítja meg:
I31: Adatok ezer forintban
E32: A | I32: B | J32: C | K32: D
I33: Önkormányzat | J33: KÖH | K33: Összevontan
E34: a) Eredeti kiadási előirányzat | I34: 159100 | J34: 72030 | K34: 146457
E35: b) Módosított kiadási előirányzat | I35: 188334 | J35: 79671 | K35: 195446
E36: c) Kiadási teljesítés | I36: 173504 | J36: 72184 | K36: 173129
B38: (2) Nyőgér Község Önkormányzata és a Nyőgéri Közös Önkormányzati Hivatal együttes kiadási teljesítési adatait a rendelet 2. melléklete tartalmazza
A40: 3. §
B42: A Képviselő-testület Nyőgér Község Önkormányzata és a Nyőgéri Közös Önkormányzati Hivatal 2015. évi működési és felhalmozási célú
B43: bevételeit és kiadásait a 3. melléklet szerint állapítja meg.
A44: 4. §
B46: A képviselő-testület a 2015. évi felhalmozási kiadásainak összegét - a rendelet 4. melléklete szerint - 12.782 e Ft-ban állapítja meg.
A48: 5. §
B50: (1) A Képviselő-testület Nyőgér Község Önkormányzata és a Nyőgéri Közös Önkormányzati Hivatal maradványkimutatását a 5. melléklet szerint állapítja meg.
B52: (2) A Nyőgéri Közös Önkormányzati Hivatal 2015. évi maradványa a településeket érintő arányban visszaosztásra kerül. Nyőgér Község Önkormányzatának
B53: pénzmaradványa a 2016. év költségvetésbe beépítésre kerül.
G55: 6. §
B57: A Képviselő-testület Nyőgér Község Önkormányzata és a Nyőgéri Közös Önkormányzati Hivatal pénzforgalmi egyeztetését a 6. melléklet szerint állapítja
B58: meg.
A60: 7. §
B62: A Képviselő-testület Nyőgér Község Önkormányzata és a Nyőgéri Közös Önkormányzati Hivatal vagyonmérlegét a 7. melléklet szerint állapítja meg.
A64: 8. §
B66: Ez a rendelet kihirdetését követő napon lép hatályba.
B68: Nyőgér, 2016. május 30.
E72: (:Nagy Károly:) | H72: (:dr. Lendvai Róbert:)
E73: polgármester | H73: jegyző
B75: Kihirdetési záradék:
B77: Kihirdetve az önkormányzat hirdetőtáblájára történő kifüggesztéssel. Hatályos: 2016. ……………….
B79: Nyőgér, 2016. ……………………….
H84: (:dr. Lendvai Róbert:)
H85: jegyző
A139: 1.

Sheet 1. melléklet
A1: 1. melléklet a /2016. (V. 30.) önkormányzati rendelethez
A3: Nyőgér Község Önkormányzata és a Nyőgéri Közös Önkormányzati Hivatal együttes bevételei
I5: Adatok ezer forintban
B6: A | I6: B | J6: C | K6: D
A7: I. | B7: Működési bevételek | I7: Eredeti | J7: Módosított | K7: Teljesítés
B8: 1.a | C8: Működési bevételek | I8: =SUM(I9:I13) -> 4532 | J8: =SUM(J9:J13) -> 6457 | K8: =SUM(K9:K13) -> 5835
C9: 1.aa | D9: Ellátási díjak ( szoc.étkezők térítési díja) | I9: 832 | J9: 1186 | K9: 1186
C10: 1.ab | D10: Szolgáltatások, közvetített szolg ellenértéke KÖH | I10: 2839 | J10: 4306 | K10: 3712
C11: 1.ac | D11: Intézmények egyéb s.bev. -tulajdonosi bevételek (bérleti és lízingdíjbevételek) | I11: 861 | J11: 806 | K11: 782
C12: 1.ad | D12: Egyéb működési bevételek | I12: 0 | J12: 158 | K12: 154
C13: 1.ae | D13: Működési célú kamatbevételek államháztartáson kívül | I13: 0 | J13: 1 | K13: 1
B15: 1.b | C15: Önkormányzatok sajátos működési bevételei (Közhatalmi bevételek) | I15: =SUM(I16:I18) -> 4799 | J15: =SUM(J16:J18) -> 6774 | K15: =SUM(K16:K18) -> 6660
C16: 1.ba | D16: Iparűzési adó (értékesítési és forgalmi adó) | I16: 4000 | J16: 5576 | K16: 5550
C17: 1.bb | D17: Gépjárműadó | I17: 799 | J17: 1175 | K17: 1098
C18: 1.bf | D18: Egyéb közhatalmi bevételek (adópótlék, bírság, telephely eng.díja) | I18: 0 | J18: 23 | K18: 12
B20: 1.c | C20: 2015. évi költségvetési támogatások bevételei | I20: =SUM(I21:I25) -> 88184 | J20: =SUM(J21:J26) -> 93826 | K20: =SUM(K21:K26) -> 93825
C21: 1.ca | D21: Helyi Önkormányzatok működésének általános támogatása | I21: 56476 | J21: 56671 | K21: 56671
C22: 1.cb | D22: Köznevelési feladatok támogatása | I22: 13025 | J22: 14618 | K22: 14618
C23: 1.cc | D23: Települési Önkormányzatok szociális feladatainak támogatása | I23: 17483 | J23: 19010 | K23: 19009
C24: 1.cd | D24: Települési Önkormányzatok közművelődési feladatainak támogatása | I24: 1200 | J24: 1200 | K24: 1200
C25: 1.ce | D25: Működési célú költségvetési kieg. támogatás | I25: 0 | J25: 2221 | K25: 2221
C26: 1.cf | D26: Elszámolásból származó bevételek | J26: 106 | K26: 106
B28: 1.d | C28: Egyéb működési célú támogatások bevételei államháztartáson belülről | I28: =SUM(I29:I49) -> 29065 | J28: =SUM(J29:J46) -> 40702 | K28: =SUM(K29:K46) -> 40145
C29: 1.da | D29: Egyéb működési célú támogatás központi ktv-i szervtől | I29: 0 | J29: 12 | K29: 12
C30: 1.db | D30: Egyéb működési célú támogatások bevételei elkülönített áll.pénzalapoktól (MÜGY) | I30: 2658 | J30: 2679 | K30: 2163
C31: 1.dc | D31: TB pénzügyi alapjaitól működési célú támogatás | I31: 2974 | J31: 2974 | K31: 2932
C32: 1.dd | D32: Önkormányzatok működési célú bevételei Bejctől KÖH részére | I32: 2476 | J32: 2476 | K32: 2476
C33: 1.de | D33: Önkormányzatok működési célú bevételei Bögötétől KÖH részére | I33: 1163 | J33: 1163 | K33: 1163
C34: 1.df | D34: Önkormányzatok működési célú bevételei Káldtól KÖH részére | I34: 6633 | J34: 6633 | K34: 6633
C35: 1.dg | D35: Önkormányzatok működési célú bevételei Meggyeskovácsitól KÖH részére | I35: 4503 | J35: 4503 | K35: 4503
C36: 1.dh | D36: Önkormányzatok működési célú bevételei Sótonytól KÖH részére | I36: 3347 | J36: 3347 | K36: 3347
C37: 1.di | D37: Önkormányzatok és intézményei működési célú bevételei | I37: 0 | J37: 800 | K37: 800
D38: 1. dia | E38: Működési célú bevételei Kistérségtől KÖH részére | I38: 2700 | J38: 2700 | K38: 2700
D39: 1. dib | E39: Működési célú bevételek Káld és Térsége Ívóvíz Társ. KÖH részére | I39: 480 | J39: 480 | K39: 480
C40: 1.dl | D40: Önkormányzatok működési célú bevételei Csicsergő Óvodához | I40: 1812 | J40: 1812 | K40: 1812
C41: 1.dm | D41: Működési célú pénzeszközátvétel Európai Uniótól
D42: 1.dma Működési célú pe. átvétel Európai Uniótól KÖH részére | I42: 0 | J42: 543 | K42: 543
D43: 1.dmb Működési célú pe. átvétel Európai Uniótól Önk.részére | I43: 319 | J43: 319 | K43: 319
C44: 1.do | D44: 2014. évi Önkormányzati képviselő választásokhoz átlagbér térítés | I44: 0 | J44: 97 | K44: 97
C45: 1.dp | D45: Pénzeszköz átvétel KÖH-tól pénzmaradvány visszaosztáshoz önkormányzatnál | I45: 0 | J45: 4913 | K45: 4913
C46: 1.dq | D46: Pénzeszköz átvétel Önk.tól pénzmaradvány visszaosztáshoz hivatalnál | I46: 0 | J46: 5251 | K46: 5252
B47: 1.e | C47: Egyéb működési célú átvett pénzeszközök | I47: 0 | J47: 192 | K47: 192
C48: 1.ea | D48: Egyéb működési célú átvett pénzeszközök önkormányzatnál | J48: 72 | K48: 72
C49: 1. eb | D49: Egyéb működési célú átvett pénzeszközök Közös hivatalnál | I49: 0 | J49: 120 | K49: 120
A51: II. | B51: Felhalmozási bevételek
B52: 1.e | C52: Felhalmozási célú támogatások államháztartáson belülről | J52: =SUM(J53:J53) -> 7990 | K52: =SUM(K53:K53) -> 7990
C53: 1.ea | D53: Egyéb felhalmozási célú támogatások bevételei EU-s programokra | J53: 7990 | K53: 7990
A56: III. | B56: Finanszírozási bevételek | I56: =SUM(I57:I62) -> 33000 | J56: =SUM(J58:J62) -> 39505 | K56: =SUM(K58:K62) -> 28505
B57: 1.f | C57: Működési maradvány
C58: 1.fa | D58: Önkormányzat működési maradványa | I58: 7164 | J58: 10826 | K58: 10826
C59: 1.fb | D59: ÁHT-n belüli megelőlegezések | I59: 0 | J59: 4418 | K59: 4418
C60: 1.fc | D60: Értékpapírok értékesítéséből működési célra felhasznált maradvány | I60: 24000 | J60: 19429 | K60: 8588
C61: 1.fd | D61: KÖH maradványa | J61: 261 | K61: 261
B62: 2.g | C62: Felhalmozási maradvány | I62: 1836 | J62: 4571 | K62: 4412
B64: B E V É T E L E K Ö S S Z E S E N | I64: =SUM(I8,I15,I20,I28,I56) -> 159580 | J64: =SUM(J8,J15,J20,J28,J47,J52,J56) -> 195446 | K64: =SUM(K8,K15,K20,K28,K47,K52,K56) -> 183152

Sheet 2. melléklet
B1: 2. melléklet a /2016. (V. 30.) önkormányzati rendelethez
B3: Nyőgér Község Önkormányzata és a Nyőgéri Közös Önkormányzati Hivatal együttes kiadásai
I5: Adatok ezer forintban
B6: A | I6: B | J6: C | K6: D
B7: Önkormányzat és intézménye összes kiadásia | I7: Eredeti | J7: Módosított | K7: Teljesítés
A8: 1. | B8: Nyőgéri Közös Önkormányzati Hivatal összes kiadása | I8: =SUM(I9:I11) -> 72030 | J8: =SUM(J9:J13) -> 79671 | K8: =SUM(K9:K13) -> 72184
B9: 1.a | C9: Személyi juttatások | I9: 45790 | J9: 47076 | K9: 44902
B10: 1.b | C10: Munkaadókat terhelő járulékok | I10: 12393 | J10: 12696 | K10: 11667
B11: 1.c | C11: Dologi kiadások | I11: 13847 | J11: 14506 | K11: 10222
B12: 1.d | C12: Egyéb működési célú támogatások (pm visszaosztás) | I12: 0 | J12: 5013 | K12: 5013
B13: 1.e | C13: Beruházások (Kisértékű tárgyi eszközök) | I13: 0 | J13: 380 | K13: 380
A14: 2. | B14: Védőnői ellátás kiadásai | I14: =SUM(I15:I19) -> 4315 | J14: =SUM(J15:J19) -> 4489 | K14: =SUM(K15:K19) -> 4459
B15: 2.a | C15: Személyi juttatások | I15: 2233 | J15: 1452 | K15: 1435
B16: 2.b | C16: Munkaadókat terhelő járulékok | I16: 577 | J16: 368 | K16: 368
B17: 2.c | C17: Dologi kiadások | I17: 1153 | J17: 903 | K17: 890
B18: 2.d | C18: Egyéb működési célú támogatások államháztartáson belülre | I18: 240 | J18: 1742 | K18: 1742
B19: 2.e | C19: Kisértékű tárgyi eszköz beszerzés | I19: 112 | J19: 24 | K19: 24
A20: 3. | B20: Önkormányzati hivatal kiadásai | I20: =SUM(I21:I30) -> 51768 | J20: =SUM(J21:J30) -> 76430 | K20: =SUM(K21:K30) -> 72943
B21: 3.a | C21: Személyi juttatások | I21: 6843 | J21: 6952 | K21: 6253
B22: 3.b | C22: Munkaadókat terhelő járulékok | I22: 1467 | J22: 1509 | K22: 1448
B23: 3.c | C23: Dologi kiadások | I23: 9202 | J23: 10119 | K23: 7744
B24: 3.d | C24: Önkormányzatok által folyósított ellátások | I24: 869 | J24: 1093 | K24: 1003
B25: 3.e | C25: Működési célú támogatások államháztartáson belülre | I25: 31613 | J25: 43978 | K25: 43915
B26: 3.f | C26: Működési célú támogatásértékű kiadások államháztartáson kívülre | I26: 50 | J26: 89 | K26: 50
B27: 3.g | C27: Elvonások és befizetések (óvodai köznevelési normatíva) | I27: 0 | J27: 153 | K27: 152
B28: 3.h | C28: Beruházások | I28: 1474 | J28: 11665 | K28: 11636
B29: 3.i | C29: Felújítások | I29: 0 | J29: 622 | K29: 622
B30: 3.j | C30: Lakástámogatás | I30: 250 | J30: 250 | K30: 120
A31: 4. | B31: Tartalék | I31: 31467 | J31: 11313 | K31: 0
A32: 5. | B32: Finanszírozási kiadások (OPTIMA értékpapír vásárlás) | I32: 0 | J32: 20000 | K32: 20000
A33: 6. | B33: Államháztartáson belüli megelőlegezés visszafizetése | I33: 0 | J33: 3543 | K33: 3543
B34: KIADÁSOK MINDÖSSZESEN: | I34: =SUM(I8,I14,I20,I31) -> 159580 | J34: =SUM(J8,J14,J20,J31,J32,J33) -> 195446 | K34: =SUM(K8,K14,K20,K32,K33) -> 173129
A37: 7. | B37: Önkormányzat kiadásai mindösszesen kiemelt előírányzatok szerint | I37: Eredeti | J37: Módosított | K37: Teljesítés
B38: 7.a | C38: Személyi juttatások | I38: =SUM(I9,I15,I21) -> 54866 | J38: =SUM(J9,J15,J21) -> 55480 | K38: =SUM(K9,K15,K21) -> 52590
B39: 7.b | C39: Munkaadókat terhelő járulékok | I39: =SUM(I22,I16,I10) -> 14437 | J39: =SUM(J22,J16,J10) -> 14573 | K39: =SUM(K22,K16,K10) -> 13483
B40: 7.c | C40: Dologi kiadások | I40: =SUM(I11,I17,I23) -> 24202 | J40: =SUM(J11,J17,J23) -> 25528 | K40: =SUM(K11,K17,K23) -> 18856
B41: 7.d | C41: Önkormányzatok által folyósított ellátások | I41: =SUM(I24) -> 869 | J41: =SUM(J24) -> 1093 | K41: =SUM(K24) -> 1003
B42: 7.e | C42: Egyéb működési célú kiadások
C43: 7.ea | D43: Támogatásértékű működési kiadás államháztartáson belül | I43: =SUM(I18,I25) -> 31853 | J43: =SUM(J18,J25,J12) -> 50733 | K43: =SUM(K18,K25,K12) -> 50670
C44: 7.eb | D44: Működési célú pénzeszköz átadások államháztartáson kívülre | I44: =SUM(I26) -> 50 | J44: =SUM(J26) -> 89 | K44: =SUM(K26) -> 50
B45: 7.f | C45: Elvonások és befizetések (óvodai és kistérségi köznevelési normatíva) | I45: 0 | J45: =SUM(J27) -> 153 | K45: =SUM(K27) -> 152
B46: 7.g | C46: Felhalmozási kiadások
C47: 7.ga | D47: Beruházások | I47: =SUM(I13,I19,I28) -> 1586 | J47: =SUM(J13,J19,J28) -> 12069 | K47: =SUM(K13,K19,K28) -> 12040
C48: 7.gb | D48: Felújítások | I48: =SUM(I29) -> 0 | J48: =SUM(J29) -> 622 | K48: =SUM(K29) -> 622
C49: 7.gc | D49: Lakástámogatás | I49: =SUM(I30) -> 250 | J49: =SUM(J30) -> 250 | K49: =SUM(K30) -> 120
B50: 7.h | C50: Tartalék | I50: =SUM(I31) -> 31467 | J50: =SUM(J31) -> 11313 | K50: =SUM(K31) -> 0
B51: Finanszírozási kiadások (OPTIMA értékpapír vásárlás, KÖH finanszírozása) | J51: =SUM(J32) -> 20000 | K51: =SUM(K32) -> 20000
B52: Államháztartáson belüli megelőlegezés visszafizetése | J52: 3543 | K52: 3543
B53: KIADÁSOK MINDÖSSZESEN: | I53: =SUM(I38:I50) -> 159580 | J53: =SUM(J38:J52) -> 195446 | K53: =SUM(K38:K52) -> 173129

Sheet 3. melléklet
B1: 3. melléklet a /2016. (V. 30.) önkormányzati rendelethez
B3: Nyőgér Község Önkormányzata és a Nyőgéri Közös Önkormányzati Hivatal együttes működési és felhalmozási célú bevételei és kiadásai
I5: Adatok ezer forintban
B6: A | I6: B | J6: C | K6: D
A7: 1. | B7: Működési bevételek előirányzata | I7: Eredeti | J7: Módosított | K7: Teljesítés
B8: 1.a | C8: Közhatalmi bevételek | I8: =SUM('1. melléklet'!I15) -> 4799 | J8: =SUM('1. melléklet'!J15) -> 6774 | K8: =SUM('1. melléklet'!K15) -> 6660
B9: 1.b | C9: Intézményi működési bevételek | I9: =SUM('1. melléklet'!I8) -> 4532 | J9: =SUM('1. melléklet'!J8) -> 6457 | K9: =SUM('1. melléklet'!K8) -> 5835
B10: 1.c | C10: Önkormányzat működési célú költségvetési támogatása | I10: =SUM('1. melléklet'!I20) -> 88184 | J10: =SUM('1. melléklet'!J20) -> 93826 | K10: =SUM('1. melléklet'!K20) -> 93825
B11: 1.e | C11: Működési célú támogatásértékű bevételek | I11: =SUM('1. melléklet'!I28) -> 29065 | J11: =SUM('1. melléklet'!J28) -> 40702 | K11: =SUM('1. melléklet'!K28) -> 40145
B12: 1.f | C12: Egyéb működési célú átvett pénzeszközök | I12: =SUM('1. melléklet'!I47) -> 0 | J12: =SUM('1. melléklet'!J47) -> 192 | K12: =SUM('1. melléklet'!K47) -> 192
B13: 1.g | C13: Működési célú pénzeszközátvétel ÁHT-n kívül | I13: 0
B14: 1.h | C14: Működési célú költségvetési bevételek össz.: | I14: =SUM(I8:I13) -> 126580 | J14: =SUM(J8:J13) -> 147951 | K14: =SUM(K8:K13) -> 146657
B15: 1.i | C15: Finanszírozási műveletek | I15: =SUM('1. melléklet'!I56)-'1. melléklet'!I62 -> 31164 | J15: =SUM('1. melléklet'!J56)-'1. melléklet'!J62 -> 34934 | K15: =SUM('1. melléklet'!K56)-'1. melléklet'!K62 -> 24093
C16: Működési, fenntartási bevételek összesen | I16: =SUM(I14,I15) -> 157744 | J16: =SUM(J14,J15) -> 182885 | K16: =SUM(K14,K15) -> 170750
A18: 2. | B18: Működési, fenntartási kiadások előirányzata
B19: 2.a | C19: Személyi juttatások | I19: =SUM('2. melléklet'!I38) -> 54866 | J19: =SUM('2. melléklet'!J38) -> 55480 | K19: =SUM('2. melléklet'!K38) -> 52590
B20: 2.b | C20: Munkaadót terhelő járulékok | I20: =SUM('2. melléklet'!I39) -> 14437 | J20: =SUM('2. melléklet'!J39) -> 14573 | K20: =SUM('2. melléklet'!K39) -> 13483
B21: 2.c | C21: Dologi kiadások | I21: =SUM('2. melléklet'!I40) -> 24202 | J21: =SUM('2. melléklet'!J40) -> 25528 | K21: =SUM('2. melléklet'!K40) -> 18856
B22: 2.d | C22: Támogatásértékű működési kiadás | I22: =SUM('2. melléklet'!I43) -> 31853 | J22: =SUM('2. melléklet'!J43) -> 50733 | K22: =SUM('2. melléklet'!K43) -> 50670
B23: 2.e | C23: Műk.c.pénzeszk.átad.támog.ÁH-n kív. | I23: =SUM('2. melléklet'!I26) -> 50 | J23: =SUM('2. melléklet'!J26) -> 89 | K23: =SUM('2. melléklet'!K26) -> 50
B24: 2.f | C24: Ellátottak pénzbeli juttatása | I24: =SUM('2. melléklet'!I41) -> 869 | J24: =SUM('2. melléklet'!J41) -> 1093 | K24: =SUM('2. melléklet'!K41) -> 1003
B25: 2.g | C25: Elvonások és befizetések (óvodai és kistérségi köznevelési normatíva) | I25: =SUM('2. melléklet'!I45) -> 0 | J25: =SUM('2. melléklet'!J45) -> 153 | K25: =SUM('2. melléklet'!K45) -> 152
B26: 2.h | C26: Költségvetési működési kiadások összesen: | I26: =SUM(I19:I24) -> 126277 | J26: =SUM(J19:J25) -> 147649 | K26: =SUM(K19:K25) -> 136804
B27: 2.i | C27: Pénzforgalom nélküli kiadások | K27: =SUM('2. melléklet'!K50) -> 0
C28: 2.ia Működési tartalék | I28: =SUM('2. melléklet'!I31) -> 31467 | J28: =SUM('2. melléklet'!J50) -> 11313 | K28: =SUM(K27) -> 0
B29: 2.j | C29: Finanszírozási kiadások (OPTIMA értékpapír vásárlás, KÖH finanszírozása) | I29: =SUM('2. melléklet'!I51:I52) -> 0 | J29: =SUM('2. melléklet'!J32:J33) -> 23543 | K29: =SUM('2. melléklet'!K32:K33) -> 23543
C30: Működési kiadások összesen | I30: =SUM(I26:I29) -> 157744 | J30: =SUM(J26:J29) -> 182505 | K30: =SUM(K26:K29) -> 160347
A32: 3. | B32: Felhalmozási bevételek előirányzata
B33: 3.a | C33: Felhalmozási célú önkormányzati támogatások | I33: =SUM('1. melléklet'!I53) -> 0 | J33: =SUM('1. melléklet'!J53) -> 7990 | K33: =SUM('1. melléklet'!K53) -> 7990
B34: 3.b | C34: Egyéb felhalmozási célú támogatások bevételei ÁHT-n belülről
B35: 3.c | C35: Felhalmozási célú pénzmaradvány felhasználás | I35: =SUM('1. melléklet'!I62) -> 1836 | J35: =SUM('1. melléklet'!J62) -> 4571 | K35: =SUM('1. melléklet'!K62) -> 4412
C36: Felhalmozási bevételek összesen: | I36: =SUM(I33:I35) -> 1836 | J36: =SUM(J33:J35) -> 12561 | K36: =SUM(K33:K35) -> 12402
A38: 4. | B38: Felhalmozási jellegű kiadások előirányzata
B39: 4.a | C39: Beruházások | I39: =SUM('2. melléklet'!I47) -> 1586 | J39: =SUM('2. melléklet'!J47) -> 12069 | K39: =SUM('2. melléklet'!K47) -> 12040
B40: 4.b | C40: Felújítások | I40: =SUM('2. melléklet'!I48) -> 0 | J40: =SUM('2. melléklet'!J48) -> 622 | K40: =SUM('2. melléklet'!K48) -> 622
B41: 4.c | C41: Lakástámogatás | I41: =SUM('2. melléklet'!I49) -> 250 | J41: =SUM('2. melléklet'!J49) -> 250 | K41: =SUM('2. melléklet'!K49) -> 120
C42: Felhalmozási célú kiadások összesen: | I42: =SUM(I39:I41) -> 1836 | J42: =SUM(J39:J41) -> 12941 | K42: =SUM(K39:K41) -> 12782
C44: Önkormányzat bevételei összesen: | I44: =SUM(I16,I36) -> 159580 | J44: =SUM(J16,J36) -> 195446 | K44: =SUM(K16,K36) -> 183152
C45: Önkormányzat kiadásai összesen: | I45: =SUM(I30,I42) -> 159580 | J45: =SUM(J30,J42) -> 195446 | K45: =SUM(K30,K42) -> 173129

Sheet 4.melléklet
E2: 4. melléklet a /2016. (V. 30.) önkormányzati rendelethez
A4: Felhalmozási kiadások
H7: Adatok ezer Ft-ban
A8: A | H8: B | I8: C | J8: D
A9: 1. | B9: Felhalmozási kiadások | H9: Eredeti | I9: Módosított | J9: Teljesítés
B10: 1.a | C10: Beruházások | H10: =SUM(H11:H17) -> 1586 | I10: =SUM(I11:I17) -> 12069 | J10: =SUM(J11:J17) -> 12040
C11: 1.aa | D11: NÉ gép, berendezés Önkormányzat (fűnyírótraktor) | H11: 800 | I11: 842 | J11: 842
C12: 1.ab | D12: KÉ gép, berendezés Önkormányzat (lombfújó, motorfűrész | H12: 448 | I12: 382 | J12: 360
C13: 1.ac | D13: Jármű beszerzés | H13: 0 | I13: 7999 | J13: 7999
C14: 1.ad | D14: Beruházások áfája Önkormányzat | H14: 338 | I14: 2466 | J14: 2459
C15: 1.ae | D15: KÉ Informatikai berendezések KÖH | H15: 0 | I15: 235 | J15: 235
C16: 1.af | D16: KÉ Egyéb gép, berendezés KÖH | H16: 0 | I16: 64 | J16: 64
C17: 1.ag | D17: Beruházások áfája KÖH | H17: 0 | I17: 81 | J17: 81
B18: 2.a | C18: Felújítások (óvoda terv) | H18: 0 | I18: 622 | J18: 622
B19: 3.a | C19: Lakástámogatás | H19: 250 | I19: 250 | J19: 120
B20: Kiadások mindösszesen: | H20: =SUM(H10,H18,H19) -> 1836 | I20: =SUM(I10,I18,I19) -> 12941 | J20: =SUM(J10,J18,J19) -> 12782

Sheet 5.melléklet
E2: 5. melléklet a /2016. (V. 30.) önkormányzati rendelethez
A4: Maradványkimutatás
G6: Adatok ezer forintban
A7: A | F7: B | G7: C | H7: D
A8: Maradvány kimutatás | F8: Önkormányzat | G8: KÖH | H8: Összevontan
A9: 1. | B9: Alaptevékenység költségvetési bevételei | F9: 147796 | G9: 6850 | H9: =SUM(F9:G9) -> 154646
A10: 2. | B10: Alaptevékenység költségvetési kiadásai | F10: 77401 | G10: 72184 | H10: =SUM(F10:G10) -> 149585
A11: 3. | B11: Alaptevékenység költségvetési egyenlege | F11: =F9-F10 -> 70395 | G11: =G9-G10 -> -65334 | H11: =SUM(F11:G11) -> 5061
A12: 4. | B12: Alaptevékenység finanszírozási bevételei | F12: 28245 | G12: 72820 | H12: =SUM(F12:G12) -> 101065
A13: 5. | B13: Alaptevékenység finanszírozási kiadásai | F13: 96102 | G13: 0 | H13: =SUM(F13:G13) -> 96102
A14: 6. | B14: Alaptevékenység finanszírozás egyenlege | F14: =F12-F13 -> -67857 | G14: =G12-G13 -> 72820 | H14: =SUM(F14:G14) -> 4963
A15: 7. | B15: Alaptevékenység maradványa | F15: =SUM(F11+F14) -> 2538 | G15: =SUM(G11+G14) -> 7486 | H15: =SUM(F15:G15) -> 10024
A16: 8. | B16: Összes maradvány | F16: =SUM(F15) -> 2538 | G16: =SUM(G15) -> 7486 | H16: =SUM(F16:G16) -> 10024
A17: 9. | B17: Alaptevékenység kötelezettséggel terhelt maradványa | F17: 0 | G17: 0 | H17: =SUM(F17:G17) -> 0
A18: 10. | B18: Alaptevékenység szabad maradványa | F18: =F16-F17 -> 2538 | G18: =G16-G17 -> 7486 | H18: =SUM(F18:G18) -> 10024

Sheet 6.melléklet
J1: 6. melléklet a /2016. (V. 30.) önkormányzati rendelethez
F3: Nyőgér Község Önkormányzata és a Nyőgéri Közös Önkormányzati Hivatal pénzforgalma
H5: Adatok ezer forintban
A6: A | H6: B | I6: C | J6: D
A7: Pénzforgalom egyeztetése | H7: Önkormányzat | I7: Közös Hívatal | J7: Összesen
A8: 1.a | B8: Pénzkészlet a tárgyidőszak elején 2015. 01. 01-én | H8: 14460 | I8: 212 | J8: =SUM(H8:I8) -> 14672
A9: 1.b | B9: Pénzkészlet változás | H9: -8091 | I9: 7211 | J9: =SUM(H9:I9) -> -880
A10: 1.c | B10: Záró pénzkészlet 2015. 12. 31-én | H10: =H8+H9 -> 6369 | I10: =I8+I9 -> 7423 | J10: =J8+J9 -> 13792

Sheet 7.melléklet
C1: 7. melléklet a /2016. (V. 30.) önkormányzati rendelethez
A3: Nyőgér Község Önkormányzata és a Nyőgéri Közös Önkormányzati Hivatal vagyonmérlege
D4: Adatok ezer forintban
A5: # | B5: Megnevezés | C5: Konszolidálás előtti összeg | D5: Konszolidálás | E5: Konszolidált összeg
A6: 1 | B6: 2 | C6: 3 | D6: 4 | E6: 5
A7: 02 | B7: A/II Tárgyi eszközök (=A/II/1+...+A/II/5) | C7: 338227 | D7: 0 | E7: 338227
A8: 03 | B8: A/III Befektetett pénzügyi eszközök (=A/III/1+A/III/2+A/III/3) | C8: 748 | D8: 0 | E8: 748
A9: 05 | B9: A) NEMZETI VAGYONBA TARTOZÓ BEFEKTETETT ESZKÖZÖK (=A/I+A/II+A/III+A/IV) | C9: 338975 | D9: 0 | E9: 338975
A10: 07 | B10: B/II Értékpapírok (=B/II/1+B/II/2) | C10: 31000 | D10: 0 | E10: 31000
A11: 08 | B11: B) NEMZETI VAGYONBA TARTOZÓ FORGÓESZKÖZÖK (= B/I+B/II) | C11: 31000 | D11: 0 | E11: 31000
A12: 10 | B12: C/II Pénztárak, csekkek, betétkönyvek (=C/II/1+C/II/2+C/II/3) | C12: 319 | D12: 0 | E12: 319
A13: 11 | B13: C/III-IV. Forintszámlák és Devizaszámlák (=C/III/1+C/III/2+CIV/1+C/IV/2) | C13: 13473 | D13: 0 | E13: 13473
A14: 12 | B14: C) PÉNZESZKÖZÖK (=C/I+…+C/IV) | C14: 13792 | D14: 0 | E14: 13792
A15: 13 | B15: D/I Költségvetési évben esedékes követelések (=D/I/1+…+D/I/8) | C15: 729 | D15: 0 | E15: 729
A16: 14 | B16: D/II Költségvetési évet követően esedékes követelések (=D/II/1+…+D/II/8) | C16: 6 | D16: 0 | E16: 6
A17: 15 | B17: D/III Követelés jellegű sajátos elszámolások (=D/III/1+…+D/III/9) | C17: 71 | D17: 0 | E17: 71
A18: 16 | B18: D) KÖVETELÉSEK (=D/I+D/II+D/III) | C18: 806 | D18: 0 | E18: 806
... A30: 31 | B30: FORRÁSOK ÖSSZESEN (=G+H+I+J) | C30: 384748 | D30: 0 | E30: 384748
